BEGIN:VCALENDAR
VERSION:2.0
BEGIN:VEVENT
URL:https://alfa.joomill.dev/vereniging/evenementen-kalender/viewevent/123-dak-erop-dak-eraf-let-op-geannuleerd 
DTSTART:20201018T000000
DTEND:20201018T001500
SUMMARY:Dak erop - dak eraf LET OP : GEANNULEERD !!
DESCRIPTION:Door de stijgende Coronabesmettingen en de rood/oranje reisadviezen van Nederland en België kunnen wij helaas deze rit niet laten doorgaan.
LOCATION:Belgie
END:VEVENT
END:VCALENDAR