BEGIN:VCALENDAR
VERSION:2.0
BEGIN:VEVENT
URL:https://alfa.joomill.dev/vereniging/evenementen-kalender/viewevent/147-dak-erop-dak-eraf 
DTSTART:20211010T100000
DTEND:20211010T160000
SUMMARY:Dak erop - dak eraf 
DESCRIPTION:<p>De jaarlijkse rit waarbij je je dak dicht mag laten of met je ándere Alfa Romeo mag komen. </p><p>Helaas weer de laatste rit in een tweede bewogen Coronajaar met afgelaste ritten en strenge Covid 19 maatregelen. Hopelijk kunnen we deze dag genieten van een herfstzonnetje en prachtige natuur.
</p>
<p>We starten deze verkenning van het groene Belgisch Limburg bij Alfa Romeo Dealer Van Mossel in Pelt. Na koffie/thee en koeken rijden we richting Bosland, passeren de testbanen van Ford en kan je fietsen door de bomen??? We rijden verder dwars door Het Kamp van Beverlo, een militair domein, en via de Vallei van de Zwarte Beek komen we in “ 't Koersels Kapelleke”, een klein bedevaartsoord waar gelegenheid tot lunch is.
</p><p>Na de lunch stevenen we naar de natuurgebieden De Teut, De Ballewijers en komen langs Bokrijk en Hengelhoef. Na een ganse dag te hebben mogen genieten van prachtige herfstkleuren komen we aan op een eilandje in een beachclub. We proberen hier de zomer nog een beetje te verlengen met enkele drinks en wat versnaperingen.
</p><br />
LOCATION:Garage Van Mossel, Lindelsebaan 110, 3900  Pelt, België
END:VEVENT
END:VCALENDAR