BEGIN:VCALENDAR
VERSION:2.0
BEGIN:VEVENT
URL:https://alfa.joomill.dev/vereniging/evenementen-kalender/viewevent/148-openluchtmuseum-ootmarsum 
DTSTART:20210815T090000
DTEND:20210815T101500
SUMMARY:Openluchtmuseum Ootmarsum
DESCRIPTION:Voor de start van de Ootmarsum rit heeft u de mogelijkheid om vanaf 09.00 dit Openluchtmuseum te bezoeken. Indien u dit wenst, kunt u zich hier aanmelden.
LOCATION:Commanderieplein 2, 7631 EA  Ootmarsum
END:VEVENT
END:VCALENDAR