BEGIN:VCALENDAR
VERSION:2.0
BEGIN:VEVENT
URL:https://alfa.joomill.dev/vereniging/evenementen-kalender/viewevent/15-arsr-noord-west-overijsselrit 
DTSTART:20140831T100000
DTEND:20140831T170000
SUMMARY:ARSR Noord-West Overijsselrit
DESCRIPTION:<p>Vanaf 10.00 uur bent u van harte welkom voor koffie met &ldquo;uweetwel&rdquo; in Wegrestaurant De Lichtmis naast de A28 tussen Zwolle en Meppel (afslag 22 Nieuwleusen). <br /><br />Rond 11.00 uur willen we gaan starten. De rit brengt u door een waterrijke streek, langs oude vissers- en havenplaatsjes, over de grens van het oude en nieuwe land, en langs natuurgebied de Weerribben. <br /><br />Tijdens de rit is er een lunchstop bij &ldquo;Geertien&rdquo; in Muggenbeet. De gezamenlijke lunch in buffetvorm is voor eigen rekening. De prijs is &euro; 15 p.p. inclusief drankjes welke aan het begin van de rit afgerekend dient te worden. <br /><br />We eindigen de rit bij Wegrestaurant De Lichtmis.<br /><br />Start- en eindlocatie:<br />Wegrestaurant De Lichtmis<br />Hermelenweg 190<br />8028 PL Zwolle<br />http://www.de lichtmis.nl <br /><br />Lunch:<br />Hotel Cafe Restaurant Geertien<br />Muggenbeet 3<br />8356 VK Blokzijl<br />http://www.geertien.nl<br />Route is ook verkrijgbaar als TyreToTravel file (trf file, zelf omzetten naar TomTom of Garmin) via Paul</p>
LOCATION:Hermelenweg 190, Zwolle
END:VEVENT
END:VCALENDAR