BEGIN:VCALENDAR
VERSION:2.0
BEGIN:VEVENT
URL:https://alfa.joomill.dev/vereniging/evenementen-kalender/viewevent/151-antwerp-classic-salon-geannuleerd 
DTSTART:20220311T140000
DTEND:20220313T180000
SUMMARY:Antwerp Classic Salon  GEANNULEERD !!!
DESCRIPTION:<p>Helaas zal ook dit jaar deze gezellige beurs niet doorgaan. Hij wordt uitgesteld naar 3-5 maart 2023</p><br />
LOCATION:Antwerp Expo, Jan van Rijswijcklaan, Antwerpen, België
END:VEVENT
END:VCALENDAR