BEGIN:VCALENDAR
VERSION:2.0
BEGIN:VEVENT
URL:https://alfa.joomill.dev/vereniging/evenementen-kalender/viewevent/27-italie-a-zandvoort 
DTSTART:20140629T000000
DTEND:20140629T235959
SUMMARY:Italie a Zandvoort
DESCRIPTION:<p>Het beste ontdekken van wat Italië te bieden heeft? Kom dan op zondag 30 juni naar het grootste Italiaanse auto- en lifestyle-event voor het hele gezin. Geniet o.a. van vele bijzondere Ferrari's, Maserati's, Lancia's, Abarths, Fiats, Alfa Romeo's en Jeeps. Maar ook van de Italiaanse keuken, de laatste mode, optredens van artiesten en nog veel meer.</p>
<p>Maak u op voor het sportiefste uitje van het jaar en bestel snel uw kaarten via <a href="http://shop.zetes.be/StepFactory.aspx?AGNT=1668&EVNT=721&SHOW=904&GD=fiateigensite">Telegraaf Tickets</a>.</p>Circuit Park Zandvoort
Burgemeester van Alphenstraat 108
2041 KP Zandvoort
LOCATION:Burgemeester van Alphenstraat 108 2041 KP Zandvoort
END:VEVENT
END:VCALENDAR