BEGIN:VCALENDAR
VERSION:2.0
BEGIN:VEVENT
URL:https://alfa.joomill.dev/vereniging/evenementen-kalender/viewevent/28-concours-delegance 
DTSTART:20140621T000000
DTEND:20140622T235959
SUMMARY:Concours Delegance
DESCRIPTION:
LOCATION:Paleis t Loo, Apeldoorn
END:VEVENT
END:VCALENDAR