BEGIN:VCALENDAR
VERSION:2.0
BEGIN:VEVENT
URL:https://alfa.joomill.dev/vereniging/evenementen-kalender/viewevent/33-italiadag-oldtimerland-amersfoort 
DTSTART:20140907T110000
DTEND:20140907T170000
SUMMARY:Italiadag Oldtimerland Amersfoort
DESCRIPTION:<p>Op zondag 7 september is iedereen van harte welkom bij Oldtimerland, Motoren Revisie Amerfoort en Oldtimerland aan de Wieken 41 te Amersfoort voor de Italiadag waar de Alfa Spider Club een tand heeft staan. Naast alle mooie Italiaanse klassieke auto's, is er ook echt Italiaans ijs, Italiaanse bollen, snacks en niet te vergeten Italiaanse muziek.</p>
<p>Er is ook een gelegenheid om de auto technisch te laten keuren door een van de technisch specialisten en uw vragen te beantwoorden die u altijd al heeft willen stellen. Ook is er kunstcollectie waaronder een Alfa Spider.</p>
<p>Tevens is er de mogelijkheid om een kijkje te nemen in de keuken van motoren en versnellingsbak revisie en in de showroom waar u een mooie collectie klassiekers kunt bewonderen.</p>
<p> </p>
LOCATION:Amersfoort
END:VEVENT
END:VCALENDAR