BEGIN:VCALENDAR
VERSION:2.0
BEGIN:VEVENT
URL:https://alfa.joomill.dev/vereniging/evenementen-kalender/viewevent/36-evento-solo-alfa 
DTSTART:20141128T180000
DTEND:20141129T160000
SUMMARY:Evento solo Alfa!
DESCRIPTION:<p>In de showroom van Wim Prins bijzondere klassiekers zoals een 6C,zoete herinneringen uit beginjaren zoals de Alfetta en de 75, maar ook ontmoet u Alfa's nieuwe raspaarden: De nieuwe Qv's en de 4C.</p>
<p>Presentatie toekomst Alfa door importeur.</p>
<p>Technische workshops.</p>
<p>Details op <a href="http://www.prinsalfa.nl/nieuws/28-29-november-evento-solo-alfa-/">http://www.prinsalfa.nl/nieuws/28-29-november-evento-solo-alfa-/</a></p>
LOCATION:Galvaniweg 1, Nunspeet
END:VEVENT
END:VCALENDAR